BEGIN:VCALENDAR
VERSION:2.0
PRODID:-//hacksw/handcal//NONSGML v1.0//EN
BEGIN:VEVENT
DTSTAMP:20260423T013646
DTSTART:20260416T190000
DTEND:20260425T230000
SUMMARY:UPwithART 2026
LOCATION:Museum London, 421 Ridout Street North, London, Ontario, N6A 5H4
DESCRIPTION:UPwithART 2026 at Museum London from Thursday, April 16, to Saturday, April 25, 2026, in London, Ontario.&nbsp;
END:VEVENT
END:VCALENDAR 