BEGIN:VCALENDAR
VERSION:2.0
PRODID:-//hacksw/handcal//NONSGML v1.0//EN
BEGIN:VEVENT
DTSTAMP:20260420T141734
DTSTART:20260508T193000
DTEND:20260508T210000
SUMMARY:STFD Improv Presents: MAY-KE Some Noise Improv
LOCATION:Riverside Social Club, 508 Riverside Dr, London, Ontario, N6H 2R7
DESCRIPTION:STFD Improv Presents: MAY-KE Some Noise Improv at&nbsp;Riverside Social Club on Friday, May 8, 2026, in London Ontario.
END:VEVENT
END:VCALENDAR 