BEGIN:VCALENDAR
VERSION:2.0
PRODID:-//hacksw/handcal//NONSGML v1.0//EN
BEGIN:VEVENT
DTSTAMP:20260420T071955
DTSTART:20260501T190000
DTEND:20260501T203000
SUMMARY:Solidaridad Tango
LOCATION:Aeolian Hall Musical Arts Association, 795 Dundas Street East, London, Ontario, N5W 2X6
DESCRIPTION:Solidaridad Tango at Aeolian Hall on Friday, May 1, 2026, in London, Ontario.
END:VEVENT
END:VCALENDAR 