BEGIN:VCALENDAR
VERSION:2.0
PRODID:-//hacksw/handcal//NONSGML v1.0//EN
BEGIN:VEVENT
DTSTAMP:20260422T173252
DTSTART:20260501T120000
DTEND:20261001T235900
SUMMARY:Ron Benner: As the Crow Flies
LOCATION:Museum London, 421 Ridout Street North, London, Ontario, N6A 5H4
DESCRIPTION:Ron Benner: As the Crow Flies at Museum London from Friday, May 1 to Thursday, October 1, 2026, in London Ontario.
END:VEVENT
END:VCALENDAR 