BEGIN:VCALENDAR
VERSION:2.0
PRODID:-//hacksw/handcal//NONSGML v1.0//EN
BEGIN:VEVENT
DTSTAMP:20260419T215312
DTSTART:20260501T210000
DTEND:20260501T220000
SUMMARY:Rob Moir + Tim Vantol
LOCATION:Palasad Socialbowl, 777 Adelaide St. N., London, Ontario, N5Y 2L8
DESCRIPTION:Rob Moir + Tim Vantol at Palasad Socialbowl on Friday, May 1, 2026, in London, Ontario.
END:VEVENT
END:VCALENDAR 