BEGIN:VCALENDAR
VERSION:2.0
PRODID:-//hacksw/handcal//NONSGML v1.0//EN
BEGIN:VEVENT
DTSTAMP:20260424T054606
DTSTART:20260604T120000
DTEND:20260605T235900
SUMMARY:Queen - Jeans 'n Classics 2025/26 Series
LOCATION:Grand Theatre, 471 Richmond St., London, Ontario, N6A 3E4
DESCRIPTION:Queen - Jeans &#39;n Classics 2025/26 Series at Grand Theater on Thursday, June 4 and Friday, June 5, 2026, in London Ontario.
END:VEVENT
END:VCALENDAR 