BEGIN:VCALENDAR
VERSION:2.0
PRODID:-//hacksw/handcal//NONSGML v1.0//EN
BEGIN:VEVENT
DTSTAMP:20260423T025604
DTSTART:20260516T190000
DTEND:20260516T233000
SUMMARY:OEV Sound Collective Part IV
LOCATION:Honey Dip, 621 Dundas St, London, ON, N5W2Z1
DESCRIPTION:OEV Sound Collective Part IV at&nbsp;Honey Dip on Saturday, May 16, 2026, in London Ontario.
END:VEVENT
END:VCALENDAR 