BEGIN:VCALENDAR
VERSION:2.0
PRODID:-//hacksw/handcal//NONSGML v1.0//EN
BEGIN:VEVENT
DTSTAMP:20260421T060632
DTSTART:20260725T070000
DTEND:20260726T160000
SUMMARY:MS Bike - Grand Bend to London
LOCATION:Grand Bend Motorplex, 70292 Grand Bend Line, Grand Bend, N0M 1T0
DESCRIPTION:MS Bike - Grand Bend to London, from Saturday, July 25 to Sunday, July 26, 2026.
END:VEVENT
END:VCALENDAR 