BEGIN:VCALENDAR
VERSION:2.0
PRODID:-//hacksw/handcal//NONSGML v1.0//EN
BEGIN:VEVENT
DTSTAMP:20260422T155944
DTSTART:20260509T120000
DTEND:20261011T235900
SUMMARY:MOTHERGROUND: Dominique Rey with Madeleine & Auguste Coar
LOCATION:Museum London, 421 Ridout Street North, London, Ontario, N6A 5H4
DESCRIPTION:MOTHERGROUND: Dominique Rey with Madeleine &amp; Auguste Coar at Museum London from Saturday, May 9 to Sunday, October 11, 2026, in London Ontario.
END:VEVENT
END:VCALENDAR 