BEGIN:VCALENDAR
VERSION:2.0
PRODID:-//hacksw/handcal//NONSGML v1.0//EN
BEGIN:VEVENT
DTSTAMP:20260419T105556
DTSTART:20261029T193000
DTEND:20261029T220000
SUMMARY:Loreena McKennitt - The Mask and Mirror
LOCATION:Centennial Hall, 550 Wellington St., London, Ontario, N6A 3P9
DESCRIPTION:Loreena McKennitt - The Mask and Mirror at Centennial Hall on Thursday, October 29, 2026, in London, Ontario.&nbsp;
END:VEVENT
END:VCALENDAR 