BEGIN:VCALENDAR
VERSION:2.0
PRODID:-//hacksw/handcal//NONSGML v1.0//EN
BEGIN:VEVENT
DTSTAMP:20260420T181654
DTSTART:20260523T160000
DTEND:20260523T235900
SUMMARY:London Latino Festival
LOCATION:Covent Garden Market, 130 King st, London, Ontario, N6A 1C5
DESCRIPTION:London Latino Festival at Covent Garden Market on Saturday, May 23 and Sunday, May 24, 2026, in London Ontario.
END:VEVENT
END:VCALENDAR 