BEGIN:VCALENDAR
VERSION:2.0
PRODID:-//hacksw/handcal//NONSGML v1.0//EN
BEGIN:VEVENT
DTSTAMP:20260423T013204
DTSTART:20260516T160000
DTEND:20260516T190000
SUMMARY:Live Music by Suyai Ensemble
LOCATION:Beer Kitchen, 100 Kellogg Lane, London, ON, N5W 0B4
DESCRIPTION:Live Music by Suyai Ensemble at The Beer Kitchen on Saturday, May 16, 2026, in London Ontario.
END:VEVENT
END:VCALENDAR 