BEGIN:VCALENDAR
VERSION:2.0
PRODID:-//hacksw/handcal//NONSGML v1.0//EN
BEGIN:VEVENT
DTSTAMP:20260423T013213
DTSTART:20260522T190000
DTEND:20260522T220000
SUMMARY:Live Music by Steve Crew
LOCATION:Beer Kitchen, 100 Kellogg Lane, London, ON, N5W 0B4
DESCRIPTION:Live Music by Steve Crew at The Beer Kitchen on Friday, May 22, 2026, in London Ontario.
END:VEVENT
END:VCALENDAR 