BEGIN:VCALENDAR
VERSION:2.0
PRODID:-//hacksw/handcal//NONSGML v1.0//EN
BEGIN:VEVENT
DTSTAMP:20260424T054828
DTSTART:20260530T160000
DTEND:20260530T190000
SUMMARY:Live Music by Simple Reflections Stoundstage
LOCATION:Beer Kitchen, 100 Kellogg Lane, London, N5W 0B4
DESCRIPTION:Live Music by Simple Reflections Stoundstage at The Beer Kitchen on Saturday, May 30, 2026, in London Ontario.
END:VEVENT
END:VCALENDAR 