BEGIN:VCALENDAR
VERSION:2.0
PRODID:-//hacksw/handcal//NONSGML v1.0//EN
BEGIN:VEVENT
DTSTAMP:20260423T004028
DTSTART:20260424T100000
DTEND:20260424T160000
SUMMARY:Live Music by Latin Power Band
LOCATION:Beer Kitchen, 100 Kellogg Lane, London, ON, N5W 0B4
DESCRIPTION:Live Music by Latin Power Band at The Beer Kitchen on Friday, April 24, 2026, in London Ontario.
END:VEVENT
END:VCALENDAR 