BEGIN:VCALENDAR
VERSION:2.0
PRODID:-//hacksw/handcal//NONSGML v1.0//EN
BEGIN:VEVENT
DTSTAMP:20260423T020607
DTSTART:20260529T190000
DTEND:20260529T220000
SUMMARY:Live Music by Karen Emeny
LOCATION:Beer Kitchen, 100 Kellogg Lane, London, N5W 0B4
DESCRIPTION:Live Music by Karen Emeny at The Beer Kitchen on Friday, May 24, 2026, in London Ontario.
END:VEVENT
END:VCALENDAR 