BEGIN:VCALENDAR
VERSION:2.0
PRODID:-//hacksw/handcal//NONSGML v1.0//EN
BEGIN:VEVENT
DTSTAMP:20260423T013233
DTSTART:20260510T140000
DTEND:20260510T170000
SUMMARY:Live Music by Gianny Correa & Ana De Mexico
LOCATION:Beer Kitchen, 100 Kellogg Lane, London, N5W 0B4
DESCRIPTION:Live Music by Gianny Correa &amp; Ana De Mexico at Beer Kitchen on Sunday, May 10, 2026, in London Ontario.
END:VEVENT
END:VCALENDAR 