BEGIN:VCALENDAR
VERSION:2.0
PRODID:-//hacksw/handcal//NONSGML v1.0//EN
BEGIN:VEVENT
DTSTAMP:20260423T025732
DTSTART:20260523T160000
DTEND:20260523T190000
SUMMARY:Live Music by Funky Bongo
LOCATION:Beer Kitchen, 100 Kellogg Lane, London, N5W 0B4
DESCRIPTION:Live Music by Funky Bongo at The Beer Kitchen on Saturday, May 23, 2026, in London Ontario.
END:VEVENT
END:VCALENDAR 