BEGIN:VCALENDAR
VERSION:2.0
PRODID:-//hacksw/handcal//NONSGML v1.0//EN
BEGIN:VEVENT
DTSTAMP:20260423T025334
DTSTART:20260509T160000
DTEND:20260509T190000
SUMMARY:Live Music by Antonio Alas Mariachi
LOCATION:Beer Kitchen, 100 Kellogg Lane, London, N5W 0B4
DESCRIPTION:Live Music by Antonio Alas Mariachi at The Beer Kitchen on Saturday, May 9, 2026, in London Ontario.
END:VEVENT
END:VCALENDAR 