BEGIN:VCALENDAR
VERSION:2.0
PRODID:-//hacksw/handcal//NONSGML v1.0//EN
BEGIN:VEVENT
DTSTAMP:20260423T020847
DTSTART:20260501T190000
DTEND:20260501T220000
SUMMARY:Free Live Music by Lesley Powell and her band AOF Lite
LOCATION:Beer Kitchen, 100 Kellogg Lane, London, N5W 0B4
DESCRIPTION:Free Live Music by Lesley Powell and her band AOF Lite at The Beer Kitchen on Friday, May 1, 2026, in London Ontario.
END:VEVENT
END:VCALENDAR 