BEGIN:VCALENDAR
VERSION:2.0
PRODID:-//hacksw/handcal//NONSGML v1.0//EN
BEGIN:VEVENT
DTSTAMP:20260423T025554
DTSTART:20260508T190000
DTEND:20260508T220000
SUMMARY:Free Live Music by Jason Mercer
LOCATION:Beer Kitchen, 100 Kellogg Lane, London, ON, N5W 0B4
DESCRIPTION:Free Live Music by Jason Mercer at The Beer Kitchen on Friday, May 8, 2026, in London Ontario.
END:VEVENT
END:VCALENDAR 