BEGIN:VCALENDAR
VERSION:2.0
PRODID:-//hacksw/handcal//NONSGML v1.0//EN
BEGIN:VEVENT
DTSTAMP:20260423T013442
DTSTART:20260502T160000
DTEND:20260502T190000
SUMMARY:Free Live Music by Canto Y Danza & Beto La Voz
LOCATION:Beer Kitchen, 100 Kellogg Lane, London, N5W 0B4
DESCRIPTION:Free Live Music by Canto Y Danza &amp; Beto La Voz at The Beer Kitchen on Saturday, May 2, 2026, in London Ontario.
END:VEVENT
END:VCALENDAR 