BEGIN:VCALENDAR
VERSION:2.0
PRODID:-//hacksw/handcal//NONSGML v1.0//EN
BEGIN:VEVENT
DTSTAMP:20260423T025437
DTSTART:20260522T200000
DTEND:20260522T235900
SUMMARY:DJ Versatile/Fresh Kils/Myer Clarity - A Health Clinic Event
LOCATION:The Holy Diver, 353 Talbot St, London, N6A2R5
DESCRIPTION:DJ Versatile/Fresh Kils/Myer Clarity - A Health Clinic Event at The Holy Diver on Friday, May 22, 2026, in London Ontario.
END:VEVENT
END:VCALENDAR 