BEGIN:VCALENDAR
VERSION:2.0
PRODID:-//hacksw/handcal//NONSGML v1.0//EN
BEGIN:VEVENT
DTSTAMP:20260420T154727
DTSTART:20260613T100000
DTEND:20260613T163000
SUMMARY:Digital Safety Summer Fair
LOCATION:Plunkett Estate, 9282 Elviage Drive, London, N6K 4N5
DESCRIPTION:Digital Safety Summer Fair at&nbsp;Plunkett Estate on Saturday, June 13, 2026, in London Ontario.
END:VEVENT
END:VCALENDAR 