BEGIN:VCALENDAR
VERSION:2.0
PRODID:-//hacksw/handcal//NONSGML v1.0//EN
BEGIN:VEVENT
DTSTAMP:20260423T042839
DTSTART:20260530T200000
DTEND:20260530T235900
SUMMARY:Deca - Les Swashbuckling Napoleons - Luke Warmth
LOCATION:Supply & Demand Beer and Pizza, 420 Talbot Street, London, Ontario, N6A 2S2
DESCRIPTION:Deca - Les Swashbuckling Napoleons - Luke Warmth at&nbsp;Supply &amp; Demand on Saturday, May 30, 2026, in London Ontario.
END:VEVENT
END:VCALENDAR 