BEGIN:VCALENDAR
VERSION:2.0
PRODID:-//hacksw/handcal//NONSGML v1.0//EN
BEGIN:VEVENT
DTSTAMP:20260420T072859
DTSTART:20260428T120000
DTEND:20260531T235900
SUMMARY:Come From Away
LOCATION:Grand Theatre, 471 Richmond St., London, Ontario, N6A 3E4
DESCRIPTION:Amid unthinkable tragedy, a small Atlantic Canadian town comes together to make a difference, one person at a time.&nbsp;
END:VEVENT
END:VCALENDAR 