BEGIN:VCALENDAR
VERSION:2.0
PRODID:-//hacksw/handcal//NONSGML v1.0//EN
BEGIN:VEVENT
DTSTAMP:20260423T013101
DTSTART:20260505T120000
DTEND:20260505T180000
SUMMARY:Cinco de Mayo
LOCATION:Beer Kitchen, 100 Kellogg Lane, London, N5W 0B4
DESCRIPTION:Cinco de Mayo at The Beer Kitchen on Tuesday, May 5, 2026, in London Ontario.
END:VEVENT
END:VCALENDAR 