BEGIN:VCALENDAR
VERSION:2.0
PRODID:-//hacksw/handcal//NONSGML v1.0//EN
BEGIN:VEVENT
DTSTAMP:20260425T104307
DTSTART:20260425T110000
DTEND:20260425T160000
SUMMARY:Beltane Witch's Market 2026
LOCATION:Victory Legion Branch #317, 311 Oakland Ave, London, N5W 4J5
DESCRIPTION:Beltane Witch&#39;s Market 2026 at Victory Legion Branch #317 on Saturday, April 25, 2026, in London, Ontario.&nbsp;
END:VEVENT
END:VCALENDAR 