BEGIN:VCALENDAR
VERSION:2.0
PRODID:-//hacksw/handcal//NONSGML v1.0//EN
BEGIN:VEVENT
DTSTAMP:20260421T044048
DTSTART:20260524T200000
DTEND:20260524T213000
SUMMARY:Anthony Gomes: Praise the Loud 2026 World Tour
LOCATION:Aeolian Hall Musical Arts Association, 795 Dundas Street East, London, Ontario, N5W 2X6
DESCRIPTION:Anthony Gomes: Praise the Loud 2026 World Tour at Aeolian Hall on Sunday, May 24, 2026, in London, Ontario.&nbsp;
END:VEVENT
END:VCALENDAR 